BEGIN:VCALENDAR
VERSION:2.0
PRODID:-//Insurance Associates - ECPv6.15.20//NONSGML v1.0//EN
CALSCALE:GREGORIAN
METHOD:PUBLISH
X-ORIGINAL-URL:https://www.insuranceassociateswi.com
X-WR-CALDESC:Events for Insurance Associates
REFRESH-INTERVAL;VALUE=DURATION:PT1H
X-Robots-Tag:noindex
X-PUBLISHED-TTL:PT1H
BEGIN:VTIMEZONE
TZID:America/Chicago
BEGIN:DAYLIGHT
TZOFFSETFROM:-0600
TZOFFSETTO:-0500
TZNAME:CDT
DTSTART:20240310T080000
END:DAYLIGHT
BEGIN:STANDARD
TZOFFSETFROM:-0500
TZOFFSETTO:-0600
TZNAME:CST
DTSTART:20241103T070000
END:STANDARD
BEGIN:DAYLIGHT
TZOFFSETFROM:-0600
TZOFFSETTO:-0500
TZNAME:CDT
DTSTART:20250309T080000
END:DAYLIGHT
BEGIN:STANDARD
TZOFFSETFROM:-0500
TZOFFSETTO:-0600
TZNAME:CST
DTSTART:20251102T070000
END:STANDARD
BEGIN:DAYLIGHT
TZOFFSETFROM:-0600
TZOFFSETTO:-0500
TZNAME:CDT
DTSTART:20260308T080000
END:DAYLIGHT
BEGIN:STANDARD
TZOFFSETFROM:-0500
TZOFFSETTO:-0600
TZNAME:CST
DTSTART:20261101T070000
END:STANDARD
END:VTIMEZONE
BEGIN:VEVENT
DTSTART;TZID=America/Chicago:20251014T150000
DTEND;TZID=America/Chicago:20251014T160000
DTSTAMP:20260420T034205
CREATED:20250818T153403Z
LAST-MODIFIED:20250818T153403Z
UID:10000108-1760454000-1760457600@www.insuranceassociateswi.com
SUMMARY:SHP Member Meeting - Eau Claire
DESCRIPTION:As a valued client of ours and Security Health Plan\, you are invited to attend a Member Workshop hosted by Insurance Associates to review the Security Health Plan Medicare plans for 2026. RSVP is not required to attend; however\, it is appreciated due to limited seating at each venue. \nRegistration Instructions:\n1. Please RSVP separately for each individual who will be attending.\n2. If you need to change your RSVP\, please call our office at 715-832-1772
URL:https://www.insuranceassociateswi.com/event/security-health-plan-member-meeting-eau-claire-3pm/
LOCATION:Florian Gardens\, 2340 Lorch Ave\, Eau Claire\, WI\, 54701\, United States
CATEGORIES:SHP
ATTACH;FMTTYPE=image/png:https://www.insuranceassociateswi.com/wp-content/uploads/2023/09/security-health-plan-of-wisconsin-inc-logo-vector.png
END:VEVENT
BEGIN:VEVENT
DTSTART;TZID=America/Chicago:20251014T130000
DTEND;TZID=America/Chicago:20251014T140000
DTSTAMP:20260420T034205
CREATED:20250818T153318Z
LAST-MODIFIED:20250818T153318Z
UID:10000107-1760446800-1760450400@www.insuranceassociateswi.com
SUMMARY:SHP Member Meeting - Eau Claire
DESCRIPTION:As a valued client of ours and Security Health Plan\, you are invited to attend a Member Workshop hosted by Insurance Associates to review the Security Health Plan Medicare plans for 2026. RSVP is not required to attend; however\, it is appreciated due to limited seating at each venue. \nRegistration Instructions:\n1. Please RSVP separately for each individual who will be attending.\n2. If you need to change your RSVP\, please call our office at 715-832-1772
URL:https://www.insuranceassociateswi.com/event/security-health-plan-member-meeting-eau-claire-1pm/
LOCATION:Florian Gardens\, 2340 Lorch Ave\, Eau Claire\, WI\, 54701\, United States
CATEGORIES:SHP
ATTACH;FMTTYPE=image/png:https://www.insuranceassociateswi.com/wp-content/uploads/2023/09/security-health-plan-of-wisconsin-inc-logo-vector.png
END:VEVENT
BEGIN:VEVENT
DTSTART;TZID=America/Chicago:20251014T110000
DTEND;TZID=America/Chicago:20251014T120000
DTSTAMP:20260420T034205
CREATED:20250818T153223Z
LAST-MODIFIED:20250818T153223Z
UID:10000106-1760439600-1760443200@www.insuranceassociateswi.com
SUMMARY:SHP Member Meeting - Eau Claire
DESCRIPTION:As a valued client of ours and Security Health Plan\, you are invited to attend a Member Workshop hosted by Insurance Associates to review the Security Health Plan Medicare plans for 2026. RSVP is not required to attend; however\, it is appreciated due to limited seating at each venue. \nRegistration Instructions:\n1. Please RSVP separately for each individual who will be attending.\n2. If you need to change your RSVP\, please call our office at 715-832-1772
URL:https://www.insuranceassociateswi.com/event/security-health-plan-member-meeting-eau-claire-11am/
LOCATION:Florian Gardens\, 2340 Lorch Ave\, Eau Claire\, WI\, 54701\, United States
CATEGORIES:SHP
ATTACH;FMTTYPE=image/png:https://www.insuranceassociateswi.com/wp-content/uploads/2023/09/security-health-plan-of-wisconsin-inc-logo-vector.png
END:VEVENT
BEGIN:VEVENT
DTSTART;TZID=America/Chicago:20251014T090000
DTEND;TZID=America/Chicago:20251014T100000
DTSTAMP:20260420T034205
CREATED:20250818T152906Z
LAST-MODIFIED:20250818T153125Z
UID:10000105-1760432400-1760436000@www.insuranceassociateswi.com
SUMMARY:SHP Member Meeting - Eau Claire
DESCRIPTION:As a valued client of ours and Security Health Plan\, you are invited to attend a Member Workshop hosted by Insurance Associates to review the Security Health Plan Medicare plans for 2026. RSVP is not required to attend; however\, it is appreciated due to limited seating at each venue. \nRegistration Instructions:\n1. Please RSVP separately for each individual who will be attending.\n2. If you need to change your RSVP\, please call our office at 715-832-1772
URL:https://www.insuranceassociateswi.com/event/security-health-plan-member-meeting-eau-claire-9am/
LOCATION:Florian Gardens\, 2340 Lorch Ave\, Eau Claire\, WI\, 54701\, United States
CATEGORIES:SHP
ATTACH;FMTTYPE=image/png:https://www.insuranceassociateswi.com/wp-content/uploads/2023/09/security-health-plan-of-wisconsin-inc-logo-vector.png
END:VEVENT
BEGIN:VEVENT
DTSTART;TZID=America/Chicago:20251013T150000
DTEND;TZID=America/Chicago:20251013T160000
DTSTAMP:20260420T034205
CREATED:20250818T144151Z
LAST-MODIFIED:20250818T144151Z
UID:10000097-1760367600-1760371200@www.insuranceassociateswi.com
SUMMARY:Medica Member Meeting - Eau Claire
DESCRIPTION:As a valued client of ours and Medica\, you are invited to attend a Member Workshop hosted by Insurance Associates to review the Medica Medicare plans for 2026. RSVP is not required to attend; however\, it is appreciated due to limited seating at each venue. \nRegistration Instructions:\n1. Please RSVP separately for each individual who will be attending.\n2. If you need to change your RSVP\, please call our office at 715-832-1772
URL:https://www.insuranceassociateswi.com/event/medica-member-meeting-eau-claire-3pm/
LOCATION:Florian Gardens\, 2340 Lorch Ave\, Eau Claire\, WI\, 54701\, United States
CATEGORIES:Medica
ATTACH;FMTTYPE=image/png:https://www.insuranceassociateswi.com/wp-content/uploads/2023/09/Medica-Logo_Primary_Color-2.png
END:VEVENT
BEGIN:VEVENT
DTSTART;TZID=America/Chicago:20251013T130000
DTEND;TZID=America/Chicago:20251013T140000
DTSTAMP:20260420T034205
CREATED:20250818T143859Z
LAST-MODIFIED:20250818T143859Z
UID:10000096-1760360400-1760364000@www.insuranceassociateswi.com
SUMMARY:Medica Member Meeting - Eau Claire
DESCRIPTION:As a valued client of ours and Medica\, you are invited to attend a Member Workshop hosted by Insurance Associates to review the Medica Medicare plans for 2026. RSVP is not required to attend; however\, it is appreciated due to limited seating at each venue. \nRegistration Instructions:\n1. Please RSVP separately for each individual who will be attending.\n2. If you need to change your RSVP\, please call our office at 715-832-1772
URL:https://www.insuranceassociateswi.com/event/medica-member-meeting-eau-claire-1pm/
LOCATION:Florian Gardens\, 2340 Lorch Ave\, Eau Claire\, WI\, 54701\, United States
CATEGORIES:Medica
ATTACH;FMTTYPE=image/png:https://www.insuranceassociateswi.com/wp-content/uploads/2023/09/Medica-Logo_Primary_Color-2.png
END:VEVENT
BEGIN:VEVENT
DTSTART;TZID=America/Chicago:20251013T110000
DTEND;TZID=America/Chicago:20251013T120000
DTSTAMP:20260420T034205
CREATED:20250818T143802Z
LAST-MODIFIED:20250818T143802Z
UID:10000095-1760353200-1760356800@www.insuranceassociateswi.com
SUMMARY:Medica Member Meeting - Eau Claire
DESCRIPTION:As a valued client of ours and Medica\, you are invited to attend a Member Workshop hosted by Insurance Associates to review the Medica Medicare plans for 2026. RSVP is not required to attend; however\, it is appreciated due to limited seating at each venue. \nRegistration Instructions:\n1. Please RSVP separately for each individual who will be attending.\n2. If you need to change your RSVP\, please call our office at 715-832-1772
URL:https://www.insuranceassociateswi.com/event/medica-member-meeting-eau-claire-11am/
LOCATION:Florian Gardens\, 2340 Lorch Ave\, Eau Claire\, WI\, 54701\, United States
CATEGORIES:Medica
ATTACH;FMTTYPE=image/png:https://www.insuranceassociateswi.com/wp-content/uploads/2023/09/Medica-Logo_Primary_Color-2.png
END:VEVENT
BEGIN:VEVENT
DTSTART;TZID=America/Chicago:20251013T090000
DTEND;TZID=America/Chicago:20251013T100000
DTSTAMP:20260420T034205
CREATED:20250818T143658Z
LAST-MODIFIED:20250818T143819Z
UID:10000094-1760346000-1760349600@www.insuranceassociateswi.com
SUMMARY:Medica Member Meeting - Eau Claire
DESCRIPTION:As a valued client of ours and Medica\, you are invited to attend a Member Workshop hosted by Insurance Associates to review the Medica Medicare plans for 2026. RSVP is not required to attend; however\, it is appreciated due to limited seating at each venue. \nRegistration Instructions:\n1. Please RSVP separately for each individual who will be attending.\n2. If you need to change your RSVP\, please call our office at 715-832-1772
URL:https://www.insuranceassociateswi.com/event/medica-member-meeting-eau-claire-9am/
LOCATION:Florian Gardens\, 2340 Lorch Ave\, Eau Claire\, WI\, 54701\, United States
CATEGORIES:Medica
ATTACH;FMTTYPE=image/png:https://www.insuranceassociateswi.com/wp-content/uploads/2023/09/Medica-Logo_Primary_Color-2.png
END:VEVENT
END:VCALENDAR